BEGIN:VCALENDAR
VERSION:2.0
PRODID:-//TYPO3/NONSGML Calendarize//EN
BEGIN:VEVENT
UID:calendarize-6268
DTSTAMP:20251230T142747Z
DTSTART:20260419T120000Z
DTEND:20260418T220000Z
SUMMARY:Theateraufführung
DESCRIPTION:
LOCATION:Mehrzweckraum / Theatersaal
END:VEVENT
END:VCALENDAR
