BEGIN:VCALENDAR
VERSION:2.0
PRODID:-//TYPO3/NONSGML Calendarize//EN
BEGIN:VEVENT
UID:calendarize-5470
DTSTAMP:20250109T214005Z
DTSTART:20250406T083000Z
DTEND:20250405T220030Z
SUMMARY:Praxistermin Erweiterung des Volkes mit dem Drohnenrahmen
DESCRIPTION:
LOCATION:Lehrbienenstand
END:VEVENT
END:VCALENDAR
