BEGIN:VCALENDAR
VERSION:2.0
PRODID:-//TYPO3/NONSGML Calendarize//EN
BEGIN:VEVENT
UID:calendarize-5231
DTSTAMP:20240211T160117Z
DTSTART:20241205T180000Z
DTEND:20241204T230126Z
SUMMARY:Nikolausfeier für Kinder aus Wolfsbach und Hofstetten
DESCRIPTION:
LOCATION:Feuerwehrhaus in Wolfsbach
END:VEVENT
END:VCALENDAR
