BEGIN:VCALENDAR
VERSION:2.0
PRODID:-//TYPO3/NONSGML Calendarize//EN
BEGIN:VEVENT
UID:calendarize-6297
DTSTAMP:20251230T154255Z
DTSTART:20270101T120000Z
DTEND:20261231T230000Z
SUMMARY:Neujahresanschießen 2027
DESCRIPTION:
LOCATION:Schützenheim
END:VEVENT
END:VCALENDAR
