BEGIN:VCALENDAR
VERSION:2.0
PRODID:-//TYPO3/NONSGML Calendarize//EN
BEGIN:VEVENT
UID:calendarize-6331
DTSTAMP:20260112T211148Z
DTSTART;VALUE=DATE:20260627
DTEND;VALUE=DATE:20260628
SUMMARY:Kirwa Hirschwald
DESCRIPTION:
LOCATION:Hirschwald
END:VEVENT
END:VCALENDAR
