BEGIN:VCALENDAR
VERSION:2.0
PRODID:-//TYPO3/NONSGML Calendarize//EN
BEGIN:VEVENT
UID:calendarize-5103
DTSTAMP:20231221T203800Z
DTSTART:20241016T120000Z
DTEND:20241015T220110Z
SUMMARY:Kaffeekränzchen
DESCRIPTION:
LOCATION:Gasthaus Hirschenwirt in Rieden
END:VEVENT
END:VCALENDAR
