BEGIN:VCALENDAR
VERSION:2.0
PRODID:-//TYPO3/NONSGML Calendarize//EN
BEGIN:VEVENT
UID:calendarize-5172
DTSTAMP:20231221T205149Z
DTSTART:20240217T180000Z
DTEND:20240216T230012Z
SUMMARY:Jahreshauptversammlung der FF Wolfsbach e.V.
DESCRIPTION:
LOCATION:Schützenheim
END:VEVENT
END:VCALENDAR
