BEGIN:VCALENDAR
VERSION:2.0
PRODID:-//TYPO3/NONSGML Calendarize//EN
BEGIN:VEVENT
UID:calendarize-6298
DTSTAMP:20251230T154348Z
DTSTART:20270109T180000Z
DTEND:20270108T230000Z
SUMMARY:Jahreshauptversammlung 2027
DESCRIPTION:
LOCATION:Schützenheim
END:VEVENT
END:VCALENDAR
