BEGIN:VCALENDAR
VERSION:2.0
PRODID:-//TYPO3/NONSGML Calendarize//EN
BEGIN:VEVENT
UID:calendarize-5509
DTSTAMP:20250109T214005Z
DTSTART:20250308T170000Z
DTEND:20250307T230018Z
SUMMARY:Interner Preisschafkopf
DESCRIPTION:
LOCATION:Gasthaus Dietz
END:VEVENT
END:VCALENDAR
