BEGIN:VCALENDAR
VERSION:2.0
PRODID:-//TYPO3/NONSGML Calendarize//EN
BEGIN:VEVENT
UID:calendarize-4955
DTSTAMP:20231219T230753Z
DTSTART:20240725T170000Z
DTEND:20240724T220000Z
SUMMARY:Gemeinderatssitzung Juli 2024 II
DESCRIPTION:
LOCATION:Rathaus
END:VEVENT
END:VCALENDAR
