BEGIN:VCALENDAR
VERSION:2.0
PRODID:-//TYPO3/NONSGML Calendarize//EN
BEGIN:VEVENT
UID:calendarize-6231
DTSTAMP:20251108T172043Z
DTSTART:20251130T120000Z
DTEND:20251130T170000Z
SUMMARY:Ensdorfer Klosteradvent 2025
DESCRIPTION:Am ersten Adventssonntag\, 30. 11. 2025\, von 13 bis 18 Uhr la
 den wir herzlich ein zum Ensdorfer Klosteradvent.Unser beliebter Adventsma
 rkt bietet viele Stände mit originellen Geschenken und Deko-Ideen sowie k
 ulinarischen Leckereien von Anbietern aus der Region. Für beste Vorweihna
 chtsstimmung sorgen ein tolles Bühnenprogramm und die besondere Atmosphä
 re in Klosterhof und Kreuzgängen.
LOCATION:Kloster Ensdorf
END:VEVENT
END:VCALENDAR
