BEGIN:VCALENDAR
VERSION:2.0
PRODID:-//TYPO3/NONSGML Calendarize//EN
BEGIN:VEVENT
UID:calendarize-5533
DTSTAMP:20250109T214005Z
DTSTART;VALUE=DATE:20250315
DTEND;VALUE=DATE:20250316
SUMMARY:Einkehrtag Johannisthal
DESCRIPTION:
LOCATION:Johannisthal
END:VEVENT
END:VCALENDAR
