BEGIN:VCALENDAR
VERSION:2.0
PRODID:-//TYPO3/NONSGML Calendarize//EN
BEGIN:VEVENT
UID:calendarize-5261
DTSTAMP:20240514T185424Z
DTSTART:20240907T070000Z
DTEND:20240907T100000Z
SUMMARY:DOSB Sportabzeichen
DESCRIPTION:Weitere Informationen siehe Flyer.
LOCATION:Mittelschule Ensdorf
END:VEVENT
END:VCALENDAR
